BEGIN:VCALENDAR
VERSION:2.0
PRODID:-//Mitchelton Pre-Schooling Centre - ECPv4.9.8//NONSGML v1.0//EN
CALSCALE:GREGORIAN
METHOD:PUBLISH
X-WR-CALNAME:Mitchelton Pre-Schooling Centre
X-ORIGINAL-URL:https://mpc.net.au
X-WR-CALDESC:Events for Mitchelton Pre-Schooling Centre
BEGIN:VTIMEZONE
TZID:Australia/Brisbane
BEGIN:STANDARD
TZOFFSETFROM:+1000
TZOFFSETTO:+1000
TZNAME:AEST
DTSTART:20200101T000000
END:STANDARD
END:VTIMEZONE
BEGIN:VEVENT
DTSTART;TZID="Australia/Brisbane":20200208T090000
DTEND;TZID="Australia/Brisbane":20200208T103000
DTSTAMP:20200226T091757
CREATED:20200203T000242Z
LAST-MODIFIED:20200203T001614Z
UID:3745-1581152400-1581157800@mpc.net.au
SUMMARY:MPC Playgroup
DESCRIPTION:From 0 – 5 year olds\, from 9am to 10.30am. \n$50 per family for 5 sessions or “come along and try” for $12 (one session). \n
URL:https://mpc.net.au/event/mpc-playgroup/
LOCATION:MPC\, 29 Kedron Avenue\, Mitchelton\, QLD\, 4053\, Australia
CATEGORIES:Playgroup
ORGANIZER;CN="Chris%20Nicoll":MAILTO:admin@mpc.net.au
END:VEVENT
BEGIN:VEVENT
DTSTART;TZID="Australia/Brisbane":20200218T190000
DTEND;TZID="Australia/Brisbane":20200218T203000
DTSTAMP:20200226T091757
CREATED:20200210T033103Z
LAST-MODIFIED:20200210T033108Z
UID:3798-1582052400-1582057800@mpc.net.au
SUMMARY:Meet & Greet and AGM 7pm
DESCRIPTION:Join us for refreshments from 7pm (Parent event) \n
URL:https://mpc.net.au/event/meet-greet-and-agm-7pm/
CATEGORIES:MPC Events
END:VEVENT
BEGIN:VEVENT
DTSTART;TZID="Australia/Brisbane":20200222T090000
DTEND;TZID="Australia/Brisbane":20200222T103000
DTSTAMP:20200226T091757
CREATED:20200203T000351Z
LAST-MODIFIED:20200203T001638Z
UID:3749-1582362000-1582367400@mpc.net.au
SUMMARY:MPC Playgroup
DESCRIPTION:From 0 – 5 year olds\, from 9am to 10.30am. \n$50 per family for 5 sessions or “come along and try” for $12 (one session). \n
URL:https://mpc.net.au/event/mpc-playgroup-2/
CATEGORIES:Playgroup
END:VEVENT
BEGIN:VEVENT
DTSTART;TZID="Australia/Brisbane":20200222T143000
DTEND;TZID="Australia/Brisbane":20200222T153000
DTSTAMP:20200226T091757
CREATED:20200210T033209Z
LAST-MODIFIED:20200210T033213Z
UID:3800-1582381800-1582385400@mpc.net.au
SUMMARY:Family Welcome Afternoon
DESCRIPTION:MPC families are invited to come along from 2.30pm for a play and afternoon tea \n
URL:https://mpc.net.au/event/family-welcome-afternoon/
CATEGORIES:MPC Events
END:VEVENT
END:VCALENDAR